BEGIN:VCALENDAR
VERSION:2.0
PRODID:-//Riverbend Community Mental Health - ECPv6.15.20//NONSGML v1.0//EN
CALSCALE:GREGORIAN
METHOD:PUBLISH
X-ORIGINAL-URL:https://www.riverbendcmhc.org
X-WR-CALDESC:Events for Riverbend Community Mental Health
REFRESH-INTERVAL;VALUE=DURATION:PT1H
X-Robots-Tag:noindex
X-PUBLISHED-TTL:PT1H
BEGIN:VTIMEZONE
TZID:America/New_York
BEGIN:DAYLIGHT
TZOFFSETFROM:-0500
TZOFFSETTO:-0400
TZNAME:EDT
DTSTART:20250309T070000
END:DAYLIGHT
BEGIN:STANDARD
TZOFFSETFROM:-0400
TZOFFSETTO:-0500
TZNAME:EST
DTSTART:20251102T060000
END:STANDARD
BEGIN:DAYLIGHT
TZOFFSETFROM:-0500
TZOFFSETTO:-0400
TZNAME:EDT
DTSTART:20260308T070000
END:DAYLIGHT
BEGIN:STANDARD
TZOFFSETFROM:-0400
TZOFFSETTO:-0500
TZNAME:EST
DTSTART:20261101T060000
END:STANDARD
BEGIN:DAYLIGHT
TZOFFSETFROM:-0500
TZOFFSETTO:-0400
TZNAME:EDT
DTSTART:20270314T070000
END:DAYLIGHT
BEGIN:STANDARD
TZOFFSETFROM:-0400
TZOFFSETTO:-0500
TZNAME:EST
DTSTART:20271107T060000
END:STANDARD
END:VTIMEZONE
BEGIN:VEVENT
DTSTART;TZID=America/New_York:20260520T130000
DTEND;TZID=America/New_York:20260520T160000
DTSTAMP:20260420T074417
CREATED:20260402T160204Z
LAST-MODIFIED:20260407T182821Z
UID:10000143-1779282000-1779292800@www.riverbendcmhc.org
SUMMARY:Live Webinar -  Expert Training - with Dr. Cali Estes
DESCRIPTION:Join clinicians from Riverbend’s Choices program for a special live webinar and q-n-a session with a nationally renowned addiction expert! \n\n\n\n\nMay marks Mental Health Awareness Month\, and Riverbend Community Mental Health is hosting various events and engagements to raise public awareness and provide opportunities for further learning. \nThe Opioid and Methamphetamine Training Program is an intensive professional development course designed to give counselors\, coaches\, and treatment professionals a comprehensive understanding of two of the most destructive drugs in circulation today. Course participants will gather at Riverbend’s Training Room to watch the live training webinar together\, and then have time for discussion and q-n-a. \nDeveloped by Dr. Cali Estes and The Addictions Academy\, the training provides a clear overview of the history\, current trends\, and medical applications surrounding opioids and methamphetamines. The training will also go in depth about how methamphetamine differs from other stimulants such as cocaine or Adderall. Students learn not only the science behind the drugs but also the cultural and environmental factors that make meth and opioid use especially dangerous. \nThe event is FREE\, but registration is required. Training is open to community partners\, clinicians\, and interested members of the public. Funding for the training was provided through the State of New Hampshire’s Opioid Abatement Community Grants Program.
URL:https://www.riverbendcmhc.org/event/expert-training-with-dr-cali-estes/
LOCATION:Riverbend Administrative Offices\, 29 School Street\, Concord\, NH\, 03301\, United States
CATEGORIES:Mental Health Awareness Month
ATTACH;FMTTYPE=image/jpeg:https://www.riverbendcmhc.org/wp-content/uploads/2026/04/estes.jpg
GEO:43.1980906;-71.5665302
X-APPLE-STRUCTURED-LOCATION;VALUE=URI;X-ADDRESS=Riverbend Administrative Offices 29 School Street Concord NH 03301 United States;X-APPLE-RADIUS=500;X-TITLE=29 School Street:geo:-71.5665302,43.1980906
END:VEVENT
END:VCALENDAR