BEGIN:VCALENDAR
VERSION:2.0
PRODID:-//Riverbend Community Mental Health - ECPv6.15.20//NONSGML v1.0//EN
CALSCALE:GREGORIAN
METHOD:PUBLISH
X-WR-CALNAME:Riverbend Community Mental Health
X-ORIGINAL-URL:https://www.riverbendcmhc.org
X-WR-CALDESC:Events for Riverbend Community Mental Health
REFRESH-INTERVAL;VALUE=DURATION:PT1H
X-Robots-Tag:noindex
X-PUBLISHED-TTL:PT1H
BEGIN:VTIMEZONE
TZID:America/New_York
BEGIN:DAYLIGHT
TZOFFSETFROM:-0500
TZOFFSETTO:-0400
TZNAME:EDT
DTSTART:20250309T070000
END:DAYLIGHT
BEGIN:STANDARD
TZOFFSETFROM:-0400
TZOFFSETTO:-0500
TZNAME:EST
DTSTART:20251102T060000
END:STANDARD
BEGIN:DAYLIGHT
TZOFFSETFROM:-0500
TZOFFSETTO:-0400
TZNAME:EDT
DTSTART:20260308T070000
END:DAYLIGHT
BEGIN:STANDARD
TZOFFSETFROM:-0400
TZOFFSETTO:-0500
TZNAME:EST
DTSTART:20261101T060000
END:STANDARD
BEGIN:DAYLIGHT
TZOFFSETFROM:-0500
TZOFFSETTO:-0400
TZNAME:EDT
DTSTART:20270314T070000
END:DAYLIGHT
BEGIN:STANDARD
TZOFFSETFROM:-0400
TZOFFSETTO:-0500
TZNAME:EST
DTSTART:20271107T060000
END:STANDARD
END:VTIMEZONE
BEGIN:VEVENT
DTSTART;TZID=America/New_York:20260520T173000
DTEND;TZID=America/New_York:20260520T190000
DTSTAMP:20260421T004757
CREATED:20260402T161931Z
LAST-MODIFIED:20260407T172953Z
UID:10000144-1779298200-1779303600@www.riverbendcmhc.org
SUMMARY:Book Discussion & Reading with Riverbend clinicians and authors
DESCRIPTION:Join Riverbend clinicians for a book reading and discussion\, plus tips to help children deal with the difficult process of grief. \n\n\n\n\nDuring the COVID-19 pandemic\, clinicians with Riverbend’s Children’s Intervention Program worked together through a creative process to write a children’s book geared at helping young people understand and move through the grieving process. The book\, titled “You Can Always Talk to Possum at Life Forest\,” was published in 2025. \nLife Forest\, an environmentally friendly\, nonprofit conversation cemetery in Hillsborough\, was a collaborator on the project. \nIn honor of Mental Health Awareness Month in May\, Riverbend will host a panel presentation and book reading with the authors and a representative from Life Forest\, discussing children and grief and providing helpful tips for parents and adults. The event is free and open to the public.
URL:https://www.riverbendcmhc.org/event/book-discussion-reading/
LOCATION:Riverbend Administrative Offices\, 29 School Street\, Concord\, NH\, 03301\, United States
CATEGORIES:Mental Health Awareness Month
ATTACH;FMTTYPE=image/jpeg:https://www.riverbendcmhc.org/wp-content/uploads/2026/04/possum3.jpg
GEO:43.1980906;-71.5665302
X-APPLE-STRUCTURED-LOCATION;VALUE=URI;X-ADDRESS=Riverbend Administrative Offices 29 School Street Concord NH 03301 United States;X-APPLE-RADIUS=500;X-TITLE=29 School Street:geo:-71.5665302,43.1980906
END:VEVENT
END:VCALENDAR